BEGIN:VCALENDAR
VERSION:2.0
PRODID:-//IEPPV - ECPv6.15.20//NONSGML v1.0//EN
CALSCALE:GREGORIAN
METHOD:PUBLISH
X-WR-CALNAME:IEPPV
X-ORIGINAL-URL:https://www.ieppv.com
X-WR-CALDESC:Events for IEPPV
REFRESH-INTERVAL;VALUE=DURATION:PT1H
X-Robots-Tag:noindex
X-PUBLISHED-TTL:PT1H
BEGIN:VTIMEZONE
TZID:America/Los_Angeles
BEGIN:DAYLIGHT
TZOFFSETFROM:-0800
TZOFFSETTO:-0700
TZNAME:PDT
DTSTART:20150308T100000
END:DAYLIGHT
BEGIN:STANDARD
TZOFFSETFROM:-0700
TZOFFSETTO:-0800
TZNAME:PST
DTSTART:20151101T090000
END:STANDARD
BEGIN:DAYLIGHT
TZOFFSETFROM:-0800
TZOFFSETTO:-0700
TZNAME:PDT
DTSTART:20160313T100000
END:DAYLIGHT
BEGIN:STANDARD
TZOFFSETFROM:-0700
TZOFFSETTO:-0800
TZNAME:PST
DTSTART:20161106T090000
END:STANDARD
BEGIN:DAYLIGHT
TZOFFSETFROM:-0800
TZOFFSETTO:-0700
TZNAME:PDT
DTSTART:20170312T100000
END:DAYLIGHT
BEGIN:STANDARD
TZOFFSETFROM:-0700
TZOFFSETTO:-0800
TZNAME:PST
DTSTART:20171105T090000
END:STANDARD
END:VTIMEZONE
BEGIN:VEVENT
DTSTART;TZID=America/Los_Angeles:20160127T183000
DTEND;TZID=America/Los_Angeles:20160127T213000
DTSTAMP:20260420T144656
CREATED:20151026T185355Z
LAST-MODIFIED:20160126T061811Z
UID:603-1453919400-1453930200@www.ieppv.com
SUMMARY:Up Close and Beautiful - Macro Photography
DESCRIPTION: Registration is now closed. However\, due to high level of interest\, there will be another Macro workshop announced in a couple of days. Please keep posted!\n  \nIs macro photography something you’ve been wanting to explore? Perhaps the difficulties – and being honest\, there are some – have been holding you back. This program and hands-on experience will give you the jump-start you need to discover the sheer joy of doing macro the smart way. Here are the highlights: \n  \nYou want to… \n\nGet into macro photography with a modest investment in equipment. We’ll explore ways to achieve high image quality without that $1\,000 macro lens. Amazingly\, there are optics that were designed for excellent macro imaging that can be picked up for pocket money – if you know what to look for.\nMaster the challenges of limited depth-of-field in close-up work. You’ll learn techniques to make the most of short depth-of-field as well as effective ways to get more depth-of-field when you need it.\nHave fun with your new-found skills. Bring your camera\, tripod and any macro gear you may already have. But don’t let any lack of equipment hold you back: for Canon and Nikon shooters\, there will be lenses and accessories available for you to experiment with. This is definitely a hands-on workshop!\n\n  \nThis promise to be an educational and entertaining event. Join us and be amazed! \n  \nABOUT FRANK PEELE\nFrank has a passion for photography that began before he was a teenager – and it’s stronger today than ever. Following a 30-year career in the U. S. Navy as a photographer and photographic officer\, he established a practice in commercial and fine-art photography in Redlands. He became active in the Inland Empire Professional Photographers and Videographers (IEPPV)\, where he is a Past President and Honorary Life Member\, and in Professional Photographers of California where he is a Qualified Competition Judge and Judging Panel Moderator. \nHe earned bachelor’s and master’s degrees in motion picture production and film education from the University of Southern California. He is a PPA Certified Professional Photographer who in 2013 was inducted into the PPC Hall of Fame\, and the same year also became the first inductee into the IEPPV Hall of Fame. Frank believes that one of the great creative opportunities in photography is to use macro techniques to get close to subjects of many kinds\, revealing beauty that is not always obvious to the unaided eye. He’ll be teaching an immersive five-day class in macro photography at West Coast School in June of 2016 at the University of San Diego. \n 
URL:https://www.ieppv.com/events/up-close-and-beautiful/
LOCATION:Image One Camera and Video\, 9590 Magnolia Ave\, Riverside\, CA\, 92503\, United States
CATEGORIES:Class
ATTACH;FMTTYPE=image/jpeg:https://www.ieppv.com/wp-content/uploads/2015/10/Peele-Butchart-Dahlia.jpg
END:VEVENT
END:VCALENDAR